Package: MetaPhOR Version: 1.10.0 Command: /home/biocbuild/bbs-3.21-bioc/R/bin/R CMD INSTALL MetaPhOR StartedAt: 2025-10-15 15:48:59 -0400 (Wed, 15 Oct 2025) EndedAt: 2025-10-15 15:49:25 -0400 (Wed, 15 Oct 2025) EllapsedTime: 26.0 seconds RetCode: 0 Status: OK