Package: MetaPhOR Version: 1.10.0 Command: /Library/Frameworks/R.framework/Resources/bin/R CMD INSTALL MetaPhOR StartedAt: 2025-10-13 16:30:55 -0400 (Mon, 13 Oct 2025) EndedAt: 2025-10-13 16:31:49 -0400 (Mon, 13 Oct 2025) EllapsedTime: 54.7 seconds RetCode: 0 Status: OK