Package: MetaPhOR Version: 1.10.0 Command: /Library/Frameworks/R.framework/Resources/bin/R CMD INSTALL MetaPhOR StartedAt: 2025-04-21 15:38:51 -0400 (Mon, 21 Apr 2025) EndedAt: 2025-04-21 15:39:23 -0400 (Mon, 21 Apr 2025) EllapsedTime: 32.5 seconds RetCode: 0 Status: OK