Package: MetaPhOR Version: 1.10.0 Command: /home/biocbuild/R/R/bin/R CMD INSTALL MetaPhOR StartedAt: 2025-10-13 21:07:45 -0000 (Mon, 13 Oct 2025) EndedAt: 2025-10-13 21:08:23 -0000 (Mon, 13 Oct 2025) EllapsedTime: 38.3 seconds RetCode: 0 Status: OK