Package: MetaPhOR Version: 1.10.0 Command: /Library/Frameworks/R.framework/Resources/bin/R CMD INSTALL MetaPhOR StartedAt: 2025-04-21 15:24:38 -0400 (Mon, 21 Apr 2025) EndedAt: 2025-04-21 15:24:48 -0400 (Mon, 21 Apr 2025) EllapsedTime: 9.9 seconds RetCode: 0 Status: OK