Package: MetaPhOR Version: 1.10.0 Maintainer: Emily Isenhart MaintainerEmail: emily.isenhart at roswellpark.org git_url: https://git.bioconductor.org/packages/MetaPhOR git_branch: RELEASE_3_21 git_last_commit: b2a7b88 git_last_commit_date: 2025-04-15 12:57:50 -0400 (Tue, 15 Apr 2025)