Package: MetNet Version: 1.26.1 Command: E:\biocbuild\bbs-3.21-bioc\R\bin\R.exe CMD INSTALL MetNet StartedAt: 2025-08-14 16:29:06 -0400 (Thu, 14 Aug 2025) EndedAt: 2025-08-14 16:29:53 -0400 (Thu, 14 Aug 2025) EllapsedTime: 47.4 seconds RetCode: 0 Status: OK