Package: MetNet Version: 1.26.1 Command: E:\biocbuild\bbs-3.21-bioc\R\bin\R.exe CMD check --no-multiarch --install=check:MetNet.install-out.txt --library=E:\biocbuild\bbs-3.21-bioc\R\library --no-vignettes --timings MetNet_1.26.1.tar.gz StartedAt: 2025-08-15 04:04:24 -0400 (Fri, 15 Aug 2025) EndedAt: 2025-08-15 04:09:46 -0400 (Fri, 15 Aug 2025) EllapsedTime: 321.7 seconds RetCode: 0 Status: OK CheckDir: MetNet.Rcheck Warnings: 0