Package: MetNet Version: 1.26.1 Command: chmod a+r MetNet -R && E:\biocbuild\bbs-3.21-bioc\R\bin\R.exe CMD build --keep-empty-dirs --no-resave-data MetNet StartedAt: 2025-08-14 20:22:17 -0400 (Thu, 14 Aug 2025) EndedAt: 2025-08-14 20:23:46 -0400 (Thu, 14 Aug 2025) EllapsedTime: 88.7 seconds RetCode: 0 Status: OK PackageFile: MetNet_1.26.1.tar.gz PackageFileSize: 3.833 MiB