Package: MetNet Version: 1.26.1 Command: /home/biocbuild/R/R/bin/R CMD INSTALL MetNet StartedAt: 2025-09-29 20:47:39 -0000 (Mon, 29 Sep 2025) EndedAt: 2025-09-29 20:48:16 -0000 (Mon, 29 Sep 2025) EllapsedTime: 36.3 seconds RetCode: 0 Status: OK