Package: MetNet Version: 1.26.1 Command: /home/biocbuild/R/R/bin/R CMD check --install=check:MetNet.install-out.txt --library=/home/biocbuild/R/R/site-library --no-vignettes --timings MetNet_1.26.1.tar.gz StartedAt: 2025-09-30 11:39:14 -0000 (Tue, 30 Sep 2025) EndedAt: 2025-09-30 11:46:48 -0000 (Tue, 30 Sep 2025) EllapsedTime: 454.5 seconds RetCode: 0 Status: OK CheckDir: MetNet.Rcheck Warnings: 0