Package: MetNet Version: 1.26.1 Command: /home/biocbuild/R/R/bin/R CMD build --keep-empty-dirs --no-resave-data MetNet StartedAt: 2025-09-30 03:05:38 -0000 (Tue, 30 Sep 2025) EndedAt: 2025-09-30 03:06:38 -0000 (Tue, 30 Sep 2025) EllapsedTime: 60.0 seconds RetCode: 0 Status: OK PackageFile: MetNet_1.26.1.tar.gz PackageFileSize: 4.132 MiB