Package: MetID Version: 1.26.0 Command: chmod a+r MetID -R && E:\biocbuild\bbs-3.21-bioc\R\bin\R.exe CMD build --keep-empty-dirs --no-resave-data MetID StartedAt: 2025-08-14 20:21:36 -0400 (Thu, 14 Aug 2025) EndedAt: 2025-08-14 20:22:16 -0400 (Thu, 14 Aug 2025) EllapsedTime: 39.8 seconds RetCode: 0 Status: OK PackageFile: MetID_1.26.0.tar.gz PackageFileSize: 1.504 MiB