Package: MetID Version: 1.26.0 Command: rm -rf MetID.buildbin-libdir && mkdir MetID.buildbin-libdir && E:\biocbuild\bbs-3.21-bioc\R\bin\R.exe CMD INSTALL --build --library=MetID.buildbin-libdir MetID_1.26.0.tar.gz StartedAt: 2025-08-15 09:41:28 -0400 (Fri, 15 Aug 2025) EndedAt: 2025-08-15 09:41:47 -0400 (Fri, 15 Aug 2025) EllapsedTime: 18.5 seconds RetCode: 0 Status: OK PackageFile: MetID_1.26.0.zip PackageFileSize: 1.736 MiB