Package: MetID Version: 1.26.0 Command: /home/biocbuild/R/R/bin/R CMD INSTALL MetID StartedAt: 2025-10-13 20:24:38 -0000 (Mon, 13 Oct 2025) EndedAt: 2025-10-13 20:24:55 -0000 (Mon, 13 Oct 2025) EllapsedTime: 16.8 seconds RetCode: 0 Status: OK