Package: MetID Version: 1.26.0 Command: /home/biocbuild/R/R/bin/R CMD check --install=check:MetID.install-out.txt --library=/home/biocbuild/R/R/site-library --no-vignettes --timings MetID_1.26.0.tar.gz StartedAt: 2025-10-14 11:08:09 -0000 (Tue, 14 Oct 2025) EndedAt: 2025-10-14 11:10:09 -0000 (Tue, 14 Oct 2025) EllapsedTime: 120.1 seconds RetCode: 0 Status: OK CheckDir: MetID.Rcheck Warnings: 0