Package: MetID Version: 1.26.0 Command: /home/biocbuild/R/R/bin/R CMD build --keep-empty-dirs --no-resave-data MetID StartedAt: 2025-10-14 02:24:00 -0000 (Tue, 14 Oct 2025) EndedAt: 2025-10-14 02:24:46 -0000 (Tue, 14 Oct 2025) EllapsedTime: 46.0 seconds RetCode: 0 Status: OK PackageFile: MetID_1.26.0.tar.gz PackageFileSize: 1.505 MiB