Package: MetID Version: 1.26.0 Command: /Library/Frameworks/R.framework/Resources/bin/R CMD INSTALL MetID StartedAt: 2025-10-13 15:36:29 -0400 (Mon, 13 Oct 2025) EndedAt: 2025-10-13 15:36:43 -0400 (Mon, 13 Oct 2025) EllapsedTime: 14.1 seconds RetCode: 0 Status: OK