Package: MetCirc Version: 1.38.0 Command: E:\biocbuild\bbs-3.21-bioc\R\bin\R.exe CMD INSTALL MetCirc StartedAt: 2025-08-14 15:48:05 -0400 (Thu, 14 Aug 2025) EndedAt: 2025-08-14 15:48:27 -0400 (Thu, 14 Aug 2025) EllapsedTime: 22.2 seconds RetCode: 0 Status: OK