Package: Mergeomics Version: 1.36.0 Command: rm -rf Mergeomics.buildbin-libdir && mkdir Mergeomics.buildbin-libdir && /Users/biocbuild/BBS/utils/build-universal.sh Mergeomics_1.36.0.tar.gz /Library/Frameworks/R.framework/Resources/bin/R Mergeomics.buildbin-libdir StartedAt: 2025-10-14 13:57:28 -0400 (Tue, 14 Oct 2025) EndedAt: 2025-10-14 13:57:52 -0400 (Tue, 14 Oct 2025) EllapsedTime: 23.6 seconds RetCode: 0 Status: OK PackageFile: Mergeomics_1.36.0.tgz PackageFileSize: 3.419 MiB