Package: MeSHDbi Version: 1.44.0 Command: rm -rf MeSHDbi.buildbin-libdir && mkdir MeSHDbi.buildbin-libdir && /Users/biocbuild/BBS/utils/build-universal.sh MeSHDbi_1.44.0.tar.gz /Library/Frameworks/R.framework/Resources/bin/R MeSHDbi.buildbin-libdir StartedAt: 2025-10-14 13:57:43 -0400 (Tue, 14 Oct 2025) EndedAt: 2025-10-14 13:58:30 -0400 (Tue, 14 Oct 2025) EllapsedTime: 46.4 seconds RetCode: 0 Status: OK PackageFile: MeSHDbi_1.44.0.tgz PackageFileSize: 534.8 KiB