Package: MatrixQCvis Version: 1.16.0 Command: E:\biocbuild\bbs-3.21-bioc\R\bin\R.exe CMD INSTALL MatrixQCvis StartedAt: 2025-08-14 16:41:09 -0400 (Thu, 14 Aug 2025) EndedAt: 2025-08-14 16:42:40 -0400 (Thu, 14 Aug 2025) EllapsedTime: 90.8 seconds RetCode: 0 Status: OK