Package: MatrixQCvis Version: 1.16.0 Command: E:\biocbuild\bbs-3.21-bioc\R\bin\R.exe CMD check --no-multiarch --install=check:MatrixQCvis.install-out.txt --library=E:\biocbuild\bbs-3.21-bioc\R\library --no-vignettes --timings MatrixQCvis_1.16.0.tar.gz StartedAt: 2025-08-15 03:47:14 -0400 (Fri, 15 Aug 2025) EndedAt: 2025-08-15 03:53:17 -0400 (Fri, 15 Aug 2025) EllapsedTime: 362.6 seconds RetCode: 0 Status: OK CheckDir: MatrixQCvis.Rcheck Warnings: 0