Package: MatrixQCvis Version: 1.16.0 Command: /home/biocbuild/bbs-3.21-bioc/R/bin/R CMD INSTALL MatrixQCvis StartedAt: 2025-10-15 15:35:48 -0400 (Wed, 15 Oct 2025) EndedAt: 2025-10-15 15:36:27 -0400 (Wed, 15 Oct 2025) EllapsedTime: 38.8 seconds RetCode: 0 Status: OK