Package: MatrixQCvis Version: 1.16.0 Command: /home/biocbuild/bbs-3.21-bioc/R/bin/R CMD check --install=check:MatrixQCvis.install-out.txt --library=/home/biocbuild/bbs-3.21-bioc/R/site-library --timings MatrixQCvis_1.16.0.tar.gz StartedAt: 2025-10-16 00:42:32 -0400 (Thu, 16 Oct 2025) EndedAt: 2025-10-16 00:49:38 -0400 (Thu, 16 Oct 2025) EllapsedTime: 425.6 seconds RetCode: 0 Status: OK CheckDir: MatrixQCvis.Rcheck Warnings: 0