Package: MatrixQCvis Version: 1.16.0 Command: /home/biocbuild/bbs-3.21-bioc/R/bin/R CMD build --keep-empty-dirs --no-resave-data MatrixQCvis StartedAt: 2025-10-15 18:19:39 -0400 (Wed, 15 Oct 2025) EndedAt: 2025-10-15 18:22:10 -0400 (Wed, 15 Oct 2025) EllapsedTime: 151.1 seconds RetCode: 0 Status: OK PackageFile: MatrixQCvis_1.16.0.tar.gz PackageFileSize: 4.682 MiB