Package: MatrixQCvis Version: 1.16.0 Command: /Library/Frameworks/R.framework/Resources/bin/R CMD INSTALL MatrixQCvis StartedAt: 2025-10-13 16:05:27 -0400 (Mon, 13 Oct 2025) EndedAt: 2025-10-13 16:06:54 -0400 (Mon, 13 Oct 2025) EllapsedTime: 86.3 seconds RetCode: 0 Status: OK