Package: MantelCorr Version: 1.78.0 Command: /Library/Frameworks/R.framework/Resources/bin/R CMD check --install=check:MantelCorr.install-out.txt --library=/Library/Frameworks/R.framework/Resources/library --no-vignettes --timings MantelCorr_1.78.0.tar.gz StartedAt: 2025-10-14 05:57:27 -0400 (Tue, 14 Oct 2025) EndedAt: 2025-10-14 05:58:06 -0400 (Tue, 14 Oct 2025) EllapsedTime: 39.0 seconds RetCode: 0 Status: OK CheckDir: MantelCorr.Rcheck Warnings: 0