Package: MantelCorr Version: 1.78.0 Command: /Library/Frameworks/R.framework/Resources/bin/R CMD build --keep-empty-dirs --no-resave-data MantelCorr StartedAt: 2025-10-13 20:11:02 -0400 (Mon, 13 Oct 2025) EndedAt: 2025-10-13 20:11:28 -0400 (Mon, 13 Oct 2025) EllapsedTime: 25.7 seconds RetCode: 0 Status: OK PackageFile: MantelCorr_1.78.0.tar.gz PackageFileSize: 937.2 KiB