Package: Macarron Version: 1.12.2 Command: /Library/Frameworks/R.framework/Resources/bin/R CMD INSTALL Macarron StartedAt: 2025-10-13 16:27:27 -0400 (Mon, 13 Oct 2025) EndedAt: 2025-10-13 16:28:10 -0400 (Mon, 13 Oct 2025) EllapsedTime: 43.7 seconds RetCode: 0 Status: OK