Package: Macarron Version: 1.12.2 Command: /Library/Frameworks/R.framework/Resources/bin/R CMD check --install=check:Macarron.install-out.txt --library=/Library/Frameworks/R.framework/Resources/library --no-vignettes --timings Macarron_1.12.2.tar.gz StartedAt: 2025-09-09 05:38:03 -0400 (Tue, 09 Sep 2025) EndedAt: 2025-09-09 06:18:03 -0400 (Tue, 09 Sep 2025) EllapsedTime: 2400.6 seconds RetCode: None Status: TIMEOUT CheckDir: Macarron.Rcheck Warnings: NA