Package: Maaslin2 Version: 1.22.0 Command: rm -rf Maaslin2.buildbin-libdir && mkdir Maaslin2.buildbin-libdir && E:\biocbuild\bbs-3.21-bioc\R\bin\R.exe CMD INSTALL --build --library=Maaslin2.buildbin-libdir Maaslin2_1.22.0.tar.gz StartedAt: 2025-08-15 09:36:57 -0400 (Fri, 15 Aug 2025) EndedAt: 2025-08-15 09:37:27 -0400 (Fri, 15 Aug 2025) EllapsedTime: 30.4 seconds RetCode: 0 Status: OK PackageFile: Maaslin2_1.22.0.zip PackageFileSize: 607.5 KiB