Package: Maaslin2 Version: 1.22.0 Command: /home/biocbuild/bbs-3.21-bioc/R/bin/R CMD build --keep-empty-dirs --no-resave-data Maaslin2 StartedAt: 2025-10-01 18:19:44 -0400 (Wed, 01 Oct 2025) EndedAt: 2025-10-01 18:21:35 -0400 (Wed, 01 Oct 2025) EllapsedTime: 111.1 seconds RetCode: 1 Status: ERROR PackageFile: None PackageFileSize: NA