Package: Maaslin2 Version: 1.22.0 Command: /Library/Frameworks/R.framework/Resources/bin/R CMD INSTALL Maaslin2 StartedAt: 2025-09-29 15:22:43 -0400 (Mon, 29 Sep 2025) EndedAt: 2025-09-29 15:23:04 -0400 (Mon, 29 Sep 2025) EllapsedTime: 21.2 seconds RetCode: 0 Status: OK