Package: Maaslin2 Version: 1.22.0 Command: /Library/Frameworks/R.framework/Resources/bin/R CMD check --install=check:Maaslin2.install-out.txt --library=/Library/Frameworks/R.framework/Resources/library --no-vignettes --timings Maaslin2_1.22.0.tar.gz StartedAt: 2025-04-21 21:36:33 -0400 (Mon, 21 Apr 2025) EndedAt: 2025-04-21 21:39:29 -0400 (Mon, 21 Apr 2025) EllapsedTime: 176.2 seconds RetCode: 0 Status: OK CheckDir: Maaslin2.Rcheck Warnings: 0