Package: Maaslin2 Version: 1.22.0 Maintainer: Lauren McIver MaintainerEmail: lauren.j.mciver at gmail.com git_url: https://git.bioconductor.org/packages/Maaslin2 git_branch: RELEASE_3_21 git_last_commit: fcec85e git_last_commit_date: 2025-04-15 11:48:14 -0400 (Tue, 15 Apr 2025)