Package: MWASTools Version: 1.32.0 Command: /home/biocbuild/bbs-3.21-bioc/R/bin/R CMD INSTALL MWASTools StartedAt: 2025-10-15 15:24:24 -0400 (Wed, 15 Oct 2025) EndedAt: 2025-10-15 15:24:55 -0400 (Wed, 15 Oct 2025) EllapsedTime: 31.2 seconds RetCode: 0 Status: OK