Package: MWASTools Version: 1.32.0 Command: /home/biocbuild/bbs-3.21-bioc/R/bin/R CMD build --keep-empty-dirs --no-resave-data MWASTools StartedAt: 2025-10-15 18:47:43 -0400 (Wed, 15 Oct 2025) EndedAt: 2025-10-15 18:48:53 -0400 (Wed, 15 Oct 2025) EllapsedTime: 70.0 seconds RetCode: 0 Status: OK PackageFile: MWASTools_1.32.0.tar.gz PackageFileSize: 2.651 MiB