Package: MWASTools Version: 1.32.0 Command: rm -rf MWASTools.buildbin-libdir && mkdir MWASTools.buildbin-libdir && /Users/biocbuild/BBS/utils/build-universal.sh MWASTools_1.32.0.tar.gz /Library/Frameworks/R.framework/Resources/bin/R MWASTools.buildbin-libdir StartedAt: 2025-10-14 14:14:09 -0400 (Tue, 14 Oct 2025) EndedAt: 2025-10-14 14:15:40 -0400 (Tue, 14 Oct 2025) EllapsedTime: 91.2 seconds RetCode: 0 Status: OK PackageFile: MWASTools_1.32.0.tgz PackageFileSize: 2.102 MiB