Package: MWASTools Version: 1.32.0 Command: /Library/Frameworks/R.framework/Resources/bin/R CMD INSTALL MWASTools StartedAt: 2025-04-21 15:24:19 -0400 (Mon, 21 Apr 2025) EndedAt: 2025-04-21 15:25:01 -0400 (Mon, 21 Apr 2025) EllapsedTime: 41.8 seconds RetCode: 0 Status: OK