Package: MWASTools Version: 1.32.0 Command: /Library/Frameworks/R.framework/Resources/bin/R CMD check --install=check:MWASTools.install-out.txt --library=/Library/Frameworks/R.framework/Resources/library --no-vignettes --timings MWASTools_1.32.0.tar.gz StartedAt: 2025-04-21 22:14:06 -0400 (Mon, 21 Apr 2025) EndedAt: 2025-04-21 22:18:28 -0400 (Mon, 21 Apr 2025) EllapsedTime: 261.9 seconds RetCode: 0 Status: OK CheckDir: MWASTools.Rcheck Warnings: 0