Package: MWASTools Version: 1.32.0 Command: /home/biocbuild/R/R/bin/R CMD INSTALL MWASTools StartedAt: 2025-10-13 20:38:53 -0000 (Mon, 13 Oct 2025) EndedAt: 2025-10-13 20:39:39 -0000 (Mon, 13 Oct 2025) EllapsedTime: 46.1 seconds RetCode: 0 Status: OK