Package: MWASTools Version: 1.32.0 Command: /Library/Frameworks/R.framework/Resources/bin/R CMD INSTALL MWASTools StartedAt: 2025-10-13 16:06:48 -0400 (Mon, 13 Oct 2025) EndedAt: 2025-10-13 16:07:25 -0400 (Mon, 13 Oct 2025) EllapsedTime: 37.4 seconds RetCode: 0 Status: OK