Package: MWASTools Version: 1.32.0 Command: /Library/Frameworks/R.framework/Resources/bin/R CMD check --install=check:MWASTools.install-out.txt --library=/Library/Frameworks/R.framework/Resources/library --no-vignettes --timings MWASTools_1.32.0.tar.gz StartedAt: 2025-10-15 05:36:49 -0400 (Wed, 15 Oct 2025) EndedAt: 2025-10-15 05:41:34 -0400 (Wed, 15 Oct 2025) EllapsedTime: 285.2 seconds RetCode: 0 Status: OK CheckDir: MWASTools.Rcheck Warnings: 0