Package: MSstatsTMT Version: 2.16.0 Command: rm -rf MSstatsTMT.buildbin-libdir && mkdir MSstatsTMT.buildbin-libdir && E:\biocbuild\bbs-3.21-bioc\R\bin\R.exe CMD INSTALL --build --library=MSstatsTMT.buildbin-libdir MSstatsTMT_2.16.0.tar.gz StartedAt: 2025-08-15 09:47:50 -0400 (Fri, 15 Aug 2025) EndedAt: 2025-08-15 09:48:32 -0400 (Fri, 15 Aug 2025) EllapsedTime: 42.3 seconds RetCode: 0 Status: OK PackageFile: MSstatsTMT_2.16.0.zip PackageFileSize: 1.911 MiB