Package: MSstatsTMT Version: 2.16.0 Command: /Library/Frameworks/R.framework/Resources/bin/R CMD build --keep-empty-dirs --no-resave-data MSstatsTMT StartedAt: 2025-09-29 20:57:36 -0400 (Mon, 29 Sep 2025) EndedAt: 2025-09-29 21:00:01 -0400 (Mon, 29 Sep 2025) EllapsedTime: 145.2 seconds RetCode: 0 Status: OK PackageFile: MSstatsTMT_2.16.0.tar.gz PackageFileSize: 1.531 MiB