Package: MSstatsQCgui Version: 1.28.0 Command: /Library/Frameworks/R.framework/Resources/bin/R CMD build --keep-empty-dirs --no-resave-data MSstatsQCgui StartedAt: 2025-09-29 20:57:18 -0400 (Mon, 29 Sep 2025) EndedAt: 2025-09-29 20:58:52 -0400 (Mon, 29 Sep 2025) EllapsedTime: 94.5 seconds RetCode: 0 Status: OK PackageFile: MSstatsQCgui_1.28.0.tar.gz PackageFileSize: 75.37 KiB