Package: MSstatsQCgui Version: 1.28.0 Command: /Library/Frameworks/R.framework/Resources/bin/R CMD check --install=check:MSstatsQCgui.install-out.txt --library=/Library/Frameworks/R.framework/Resources/library --no-vignettes --timings MSstatsQCgui_1.28.0.tar.gz StartedAt: 2025-04-21 20:33:43 -0400 (Mon, 21 Apr 2025) EndedAt: 2025-04-21 20:35:26 -0400 (Mon, 21 Apr 2025) EllapsedTime: 103.2 seconds RetCode: 0 Status: OK CheckDir: MSstatsQCgui.Rcheck Warnings: 0