Package: MSstatsQC Version: 2.26.0 Command: E:\biocbuild\bbs-3.21-bioc\R\bin\R.exe CMD check --no-multiarch --install=check:MSstatsQC.install-out.txt --library=E:\biocbuild\bbs-3.21-bioc\R\library --no-vignettes --timings MSstatsQC_2.26.0.tar.gz StartedAt: 2025-08-15 04:37:55 -0400 (Fri, 15 Aug 2025) EndedAt: 2025-08-15 04:44:01 -0400 (Fri, 15 Aug 2025) EllapsedTime: 366.3 seconds RetCode: 0 Status: OK CheckDir: MSstatsQC.Rcheck Warnings: 0