Package: MSstatsQC Version: 2.26.0 Command: /home/biocbuild/bbs-3.21-bioc/R/bin/R CMD check --install=check:MSstatsQC.install-out.txt --library=/home/biocbuild/bbs-3.21-bioc/R/site-library --timings MSstatsQC_2.26.0.tar.gz StartedAt: 2025-10-16 01:28:50 -0400 (Thu, 16 Oct 2025) EndedAt: 2025-10-16 01:34:27 -0400 (Thu, 16 Oct 2025) EllapsedTime: 337.4 seconds RetCode: 0 Status: OK CheckDir: MSstatsQC.Rcheck Warnings: 0